BEGIN:VCALENDAR
VERSION:2.0
PRODID:-//Photo Club Montlouis - ECPv6.15.20//NONSGML v1.0//EN
CALSCALE:GREGORIAN
METHOD:PUBLISH
X-ORIGINAL-URL:https://photoclubmontlouis.com
X-WR-CALDESC:Évènements pour Photo Club Montlouis
REFRESH-INTERVAL;VALUE=DURATION:PT1H
X-Robots-Tag:noindex
X-PUBLISHED-TTL:PT1H
BEGIN:VTIMEZONE
TZID:Europe/Paris
BEGIN:DAYLIGHT
TZOFFSETFROM:+0100
TZOFFSETTO:+0200
TZNAME:CEST
DTSTART:20240331T010000
END:DAYLIGHT
BEGIN:STANDARD
TZOFFSETFROM:+0200
TZOFFSETTO:+0100
TZNAME:CET
DTSTART:20241027T010000
END:STANDARD
BEGIN:DAYLIGHT
TZOFFSETFROM:+0100
TZOFFSETTO:+0200
TZNAME:CEST
DTSTART:20250330T010000
END:DAYLIGHT
BEGIN:STANDARD
TZOFFSETFROM:+0200
TZOFFSETTO:+0100
TZNAME:CET
DTSTART:20251026T010000
END:STANDARD
BEGIN:DAYLIGHT
TZOFFSETFROM:+0100
TZOFFSETTO:+0200
TZNAME:CEST
DTSTART:20260329T010000
END:DAYLIGHT
BEGIN:STANDARD
TZOFFSETFROM:+0200
TZOFFSETTO:+0100
TZNAME:CET
DTSTART:20261025T010000
END:STANDARD
END:VTIMEZONE
BEGIN:VEVENT
DTSTART;TZID=Europe/Paris:20251013T183000
DTEND;TZID=Europe/Paris:20251013T203000
DTSTAMP:20260424T103044
CREATED:20250915T134453Z
LAST-MODIFIED:20250915T134835Z
UID:8212-1760380200-1760387400@photoclubmontlouis.com
SUMMARY:Soirée post-traitement
DESCRIPTION:
URL:https://photoclubmontlouis.com/evenement/soiree-post-traitement/
END:VEVENT
BEGIN:VEVENT
DTSTART;TZID=Europe/Paris:20251006T183000
DTEND;TZID=Europe/Paris:20251006T203000
DTSTAMP:20260424T103044
CREATED:20250915T134203Z
LAST-MODIFIED:20250915T134245Z
UID:8210-1759775400-1759782600@photoclubmontlouis.com
SUMMARY:Analyse des photos prises le 22 Présentation d'un photographe
DESCRIPTION:
URL:https://photoclubmontlouis.com/evenement/analyse-des-photos-prises-le-22-presentation-dun-photographe/
END:VEVENT
BEGIN:VEVENT
DTSTART;TZID=Europe/Paris:20250929T183000
DTEND;TZID=Europe/Paris:20250929T203000
DTSTAMP:20260424T103044
CREATED:20250915T133844Z
LAST-MODIFIED:20250915T134655Z
UID:8207-1759170600-1759177800@photoclubmontlouis.com
SUMMARY:Présentation Ansel Adams
DESCRIPTION:
URL:https://photoclubmontlouis.com/evenement/presenttion-ansel-adams/
END:VEVENT
BEGIN:VEVENT
DTSTART;TZID=Europe/Paris:20250922T180000
DTEND;TZID=Europe/Paris:20250922T200000
DTSTAMP:20260424T103044
CREATED:20250915T133754Z
LAST-MODIFIED:20250915T134010Z
UID:8205-1758564000-1758571200@photoclubmontlouis.com
SUMMARY:Sortie photo parc de la métairie "Automne"
DESCRIPTION:
URL:https://photoclubmontlouis.com/evenement/sortie-photo-parc-de-la-metairie-automne/
END:VEVENT
BEGIN:VEVENT
DTSTART;TZID=Europe/Paris:20250915T183000
DTEND;TZID=Europe/Paris:20250915T203000
DTSTAMP:20260424T103044
CREATED:20250915T133640Z
LAST-MODIFIED:20250915T133938Z
UID:8203-1757961000-1757968200@photoclubmontlouis.com
SUMMARY:Accueil des nouveaux adhérents
DESCRIPTION:
URL:https://photoclubmontlouis.com/evenement/accueil-des-nouveaux-adherents/
END:VEVENT
END:VCALENDAR